BEGIN:VCALENDAR
VERSION:2.0
PRODID:-//AVA - ECPv6.6.4.2//NONSGML v1.0//EN
CALSCALE:GREGORIAN
METHOD:PUBLISH
X-ORIGINAL-URL:https://avarooftopbar.com
X-WR-CALDESC:Events for AVA
REFRESH-INTERVAL;VALUE=DURATION:PT1H
X-Robots-Tag:noindex
X-PUBLISHED-TTL:PT1H
BEGIN:VTIMEZONE
TZID:UTC
BEGIN:STANDARD
TZOFFSETFROM:+0000
TZOFFSETTO:+0000
TZNAME:UTC
DTSTART:20260101T000000
END:STANDARD
END:VTIMEZONE
BEGIN:VEVENT
DTSTART;TZID=UTC:20260606T120000
DTEND;TZID=UTC:20260606T150000
DTSTAMP:20260421T080621
CREATED:20260310T141308Z
LAST-MODIFIED:20260317T155059Z
UID:949-1780747200-1780758000@avarooftopbar.com
SUMMARY:Mimosa Fest 2026
DESCRIPTION:Everyone’s favorite day party is back! \nMark your calendars for Mimosa Fest 2026\, presented by Surfside & Blue Moon\, happening on Saturday\, June 6 from 12pm-3pm! \nWHAT TO EXPECT:  \n\nSpecialty mimosas in every venue (Sports & Social Cary\, PBR Cary\, & AVA Rooftop Bar Cary)\nLive entertainment throughout the building\nVarious vendors\nDelicious brunch options to cure your hangover\nMimosa passport\nMajor prize giveaways & more\n\nGA & VIP TICKETS ON-SALE NOW!  \n*Upgrade to our VIP ticket options that includes EARLY ENTRY AT 11AM\, a Mimosa Fest passport\, breakfast item\, 3 mimosa drink tickets\, complimentary welcome champagne\, and macarons from Le Petit Amour.* \nGRAB YOUR TICKETS HERE \nYou won’t want to miss the biggest day party in the Triangle! \nStay in the loop on all updates for Mimosa Fest 2026 by following us on Instagram or Facebook (@avarooftopbarcary)!
URL:https://avarooftopbar.com/event/mimosa-fest-2026/
CATEGORIES:Cary
ATTACH;FMTTYPE=image/jpeg:https://avarooftopbar.com/wp-content/uploads/2026/03/CARY_MimosaFest2026_DIGITAL_1920-x-1080-2.jpg
END:VEVENT
END:VCALENDAR