BEGIN:VCALENDAR
VERSION:2.0
PRODID:-//AVA - ECPv6.6.4.2//NONSGML v1.0//EN
CALSCALE:GREGORIAN
METHOD:PUBLISH
X-ORIGINAL-URL:https://avarooftopbar.com
X-WR-CALDESC:Events for AVA
REFRESH-INTERVAL;VALUE=DURATION:PT1H
X-Robots-Tag:noindex
X-PUBLISHED-TTL:PT1H
BEGIN:VTIMEZONE
TZID:UTC
BEGIN:STANDARD
TZOFFSETFROM:+0000
TZOFFSETTO:+0000
TZNAME:UTC
DTSTART:20240101T000000
END:STANDARD
END:VTIMEZONE
BEGIN:VEVENT
DTSTART;TZID=UTC:20241013T103000
DTEND;TZID=UTC:20241013T113000
DTSTAMP:20260422T095511
CREATED:20240927T173226Z
LAST-MODIFIED:20240927T173235Z
UID:644-1728815400-1728819000@avarooftopbar.com
SUMMARY:SundAVA - Rooftop Yoga
DESCRIPTION:We’re partnering with Cary Yoga Collective to bring you Rooftop Yoga every other Sunday morning from 10:30-11:30am ☀️🧘‍♀️\n\n🎟️ Secure your spot now for Sunday\, October 13th
URL:https://avarooftopbar.com/event/sundava-rooftop-yoga-5/
LOCATION:TN
CATEGORIES:Cary
ATTACH;FMTTYPE=image/jpeg:https://avarooftopbar.com/wp-content/uploads/2023/08/uploadedimage_64931c54a0042.jpg
END:VEVENT
END:VCALENDAR