BEGIN:VCALENDAR
VERSION:2.0
PRODID:-//AVA - ECPv6.6.4.2//NONSGML v1.0//EN
CALSCALE:GREGORIAN
METHOD:PUBLISH
X-ORIGINAL-URL:https://avarooftopbar.com
X-WR-CALDESC:Events for AVA
REFRESH-INTERVAL;VALUE=DURATION:PT1H
X-Robots-Tag:noindex
X-PUBLISHED-TTL:PT1H
BEGIN:VTIMEZONE
TZID:UTC
BEGIN:STANDARD
TZOFFSETFROM:+0000
TZOFFSETTO:+0000
TZNAME:UTC
DTSTART:20240101T000000
END:STANDARD
END:VTIMEZONE
BEGIN:VEVENT
DTSTART;TZID=UTC:20240901T103000
DTEND;TZID=UTC:20240901T113000
DTSTAMP:20260422T142226
CREATED:20240805T164049Z
LAST-MODIFIED:20240805T164049Z
UID:590-1725186600-1725190200@avarooftopbar.com
SUMMARY:SundAVA - Rooftop Yoga
DESCRIPTION:We’re partnering with Cary Yoga Collective to bring you Rooftop Yoga every other Sunday morning from 10:30-11:30am ☀️🧘‍♀️\n\n🎟️ Secure your spot now for Sunday\, September 1st!
URL:https://avarooftopbar.com/event/sundava-rooftop-yoga-3/
LOCATION:TN
CATEGORIES:Cary
ATTACH;FMTTYPE=image/jpeg:https://avarooftopbar.com/wp-content/uploads/2023/08/uploadedimage_64931c54a0042.jpg
END:VEVENT
BEGIN:VEVENT
DTSTART;TZID=UTC:20240904T180000
DTEND;TZID=UTC:20240904T210000
DTSTAMP:20260422T142226
CREATED:20240826T180942Z
LAST-MODIFIED:20240826T180942Z
UID:629-1725472800-1725483600@avarooftopbar.com
SUMMARY:Girls Night Out - Sip N Shop
DESCRIPTION:Girls just wanna have fun – all September long 💕 Mark your calendars\, because we’ve got a GNO: Sip N Shop happening on Wednesday\, September 4th\, courtesy of Blue Chair Bay Rum! 🛍️ \nJoin us from 6-9pm and sip on $7 espresso martinis and enjoy 1/2 off wine flights while shopping from various local woman-owned businesses!🍸🍷
URL:https://avarooftopbar.com/event/girls-night-out-sip-n-shop-4/
LOCATION:TN
CATEGORIES:Cary
ATTACH;FMTTYPE=image/jpeg:https://avarooftopbar.com/wp-content/uploads/2024/04/DSC_7425-Edit-scaled.jpg
END:VEVENT
BEGIN:VEVENT
DTSTART;TZID=UTC:20240915T103000
DTEND;TZID=UTC:20240915T113000
DTSTAMP:20260422T142226
CREATED:20240805T164136Z
LAST-MODIFIED:20240820T161953Z
UID:591-1726396200-1726399800@avarooftopbar.com
SUMMARY:SundAVA - Rooftop Yoga
DESCRIPTION:We’re partnering with Cary Yoga Collective to bring you Rooftop Yoga every other Sunday morning from 10:30-11:30am ☀️🧘‍♀️\n\n🎟️ Secure your spot now for Sunday\, September 15th!
URL:https://avarooftopbar.com/event/sundava-rooftop-yoga-4/
LOCATION:TN
CATEGORIES:Cary
ATTACH;FMTTYPE=image/jpeg:https://avarooftopbar.com/wp-content/uploads/2023/08/uploadedimage_64931c54a0042.jpg
END:VEVENT
BEGIN:VEVENT
DTSTART;TZID=UTC:20240918T180000
DTEND;TZID=UTC:20240918T210000
DTSTAMP:20260422T142226
CREATED:20240826T181234Z
LAST-MODIFIED:20240826T181234Z
UID:631-1726682400-1726693200@avarooftopbar.com
SUMMARY:Girls Night Out - Pamper Me Pretty
DESCRIPTION:Girls just wanna have fun – all September long 💕 Mark your calendars\, because we’ve got a GNO: Pamper Me Pretty happening on Wednesday\, September 18th\, courtesy of Blue Chair Bay Rum! \nTreat yourself with us! Join us from 6-9pm for a night of self care from FACE FOUNDRIÉ\, The Skin Clique\, and more! 🫧 Plus enjoy $7 espresso martinis and 1/2 off wine flights all night long!
URL:https://avarooftopbar.com/event/girls-night-out-pamper-me-pretty/
LOCATION:TN
CATEGORIES:Cary
ATTACH;FMTTYPE=image/jpeg:https://avarooftopbar.com/wp-content/uploads/2024/04/434153809_277586468723159_4357713645448565979_n.jpg
END:VEVENT
BEGIN:VEVENT
DTSTART;TZID=UTC:20240929T160000
DTEND;TZID=UTC:20240929T200000
DTSTAMP:20260422T142226
CREATED:20240920T223823Z
LAST-MODIFIED:20240920T223823Z
UID:635-1727625600-1727640000@avarooftopbar.com
SUMMARY:Liquid Sunday
DESCRIPTION:This Sunday\, it’s all about the beats \n\nJoin us for Liquid Sunday on September 29 from 4-8pm and enjoy live DJ sets\, craft cocktails\, and sunset views \n\nDJ Line-Up: – Gotta– Traka– Doc– Ravenax
URL:https://avarooftopbar.com/event/liquid-sunday/
LOCATION:TN
CATEGORIES:Cary
ATTACH;FMTTYPE=image/png:https://avarooftopbar.com/wp-content/uploads/2024/09/liquid-sunday.png
END:VEVENT
END:VCALENDAR